BEGIN:VCALENDAR
VERSION:2.0
PRODID:-//Date iCal v3.5//NONSGML kigkonsult.se iCalcreator 2.20.2//
METHOD:PUBLISH
X-WR-CALNAME;VALUE=TEXT:ICAL
BEGIN:VTIMEZONE
TZID:Europe/Madrid
BEGIN:STANDARD
DTSTART:20241027T030000
TZOFFSETFROM:+0200
TZOFFSETTO:+0100
TZNAME:CET
END:STANDARD
BEGIN:DAYLIGHT
DTSTART:20250330T020000
TZOFFSETFROM:+0100
TZOFFSETTO:+0200
TZNAME:CEST
END:DAYLIGHT
END:VTIMEZONE
BEGIN:VEVENT
UID:calendar.37085.event_date.0@www.coit.es
DTSTAMP:20260425T193510Z
CREATED:20250116T090920Z
DESCRIPTION:Cómo pasar de ingeniero de teleco a CEO de una startup\n\n\n\nF
 echa\n\nLunes\, 27 Enero\, 2025 - De 18:30 hasta 19:30\n\n\n\n\n\n\n\n\n¿B
 uscas inspiración y conocimiento práctico para emprender como teleco en el
  sector salud?\n\n\n\nPues no puedes perder nuestro webinar donde dos refe
 rentes del sector\, Ángel Alberich y Valery Naranjo compartirán sus experi
 encias reales y sus lecciones aprendidas en su camino emprendedor. Descubr
 irás las claves para identificar oportunidades de negocio\, evitar errores
  comunes y crear empresas tecnológicas sostenibles\, escalables e invertib
 les. Durante esta sesión de una hora\, abordaremos temas cruciales como la
  validación de ideas\, la búsqueda de financiación en las diferentes etapa
 s de una empresa y la formación de equipos efectivos.\n\n\n\nEste webinar 
 está especialmente diseñado para ingenieros de telecomunicación y profesio
 nales técnicos que sueñan con lanzar su propio proyecto de emprendimiento.
  Además\, los ponentes responderán preguntas en directo y compartirán recu
 rsos prácticos para dar tus primeros pasos como emprendedor tecnológico.\n
 \n\n\nNo dejes pasar esta oportunidad única de aprender de quienes ya han 
 recorrido el camino.\n\n\n\n Fecha: 27/01/2025\n\n\n\n Hora: 18:30\n\n\n\n
  Imprescincible realizar la inscripción\n\n\n\n\n\nPonentes:\n\nValery Nar
 anjo. Catedrática Universitat Politècnica de València. Co fundadora de Art
 iKode Intelligence\n	Angel Alberich-Bayarri. CEO QUIBIM\n\n\nModerador:\n\n
 Vicente Traver. Director ITACA/SABIEN. Universitat Politècnica de València
 \n\n\nNOTA IMPORTANTE: Dos horas antes del inicio del evento se enviará un
  correo con los datos de conexión a todos los inscritos en el formulario.
 \n\n\nFormulario abajo\n\nSí
DTSTART;TZID=Europe/Madrid:20250127T183000
DTEND;TZID=Europe/Madrid:20250127T193000
LAST-MODIFIED:20250127T140042Z
SUMMARY:El emprendimiento de los telecos en el sector de la salud digital
URL;TYPE=URI:https://www.coit.es/eventos/el-emprendimiento-de-los-telecos-e
 n-el-sector-de-la-salud-digital
END:VEVENT
END:VCALENDAR
