BEGIN:VCALENDAR
VERSION:2.0
PRODID:-//Date iCal v3.5//NONSGML kigkonsult.se iCalcreator 2.20.2//
METHOD:PUBLISH
X-WR-CALNAME;VALUE=TEXT:ICAL
BEGIN:VTIMEZONE
TZID:Europe/Madrid
BEGIN:STANDARD
DTSTART:20211031T030000
TZOFFSETFROM:+0200
TZOFFSETTO:+0100
RDATE:20221030T030000
TZNAME:CET
END:STANDARD
BEGIN:DAYLIGHT
DTSTART:20220327T020000
TZOFFSETFROM:+0100
TZOFFSETTO:+0200
TZNAME:CEST
END:DAYLIGHT
END:VTIMEZONE
BEGIN:VEVENT
UID:calendar.34906.event_date.0@www.coit.es
DTSTAMP:20260421T111547Z
CREATED:20220323T085316Z
DESCRIPTION:Fecha\n\nMiércoles\, 11 Mayo\, 2022 - De 16:00 hasta 18:00\n\n
 \n\n\n\n\n\n\nEn esta jornada se dará a conocer herramientas digitales par
 a mejorar la gestión de estudios de ingeniería y arquitectura\, desde la g
 estión técnica de proyectos\, hasta su gestión económica\, administrativa 
 y comercial.  Esta sesión va dirigida a estudios de ingeniería y arquitect
 ura. Se mostrarán ejemplos concretos de cómo gestionar de manera más efici
 ente el despacho con las ventajas que supone utilizar soluciones digitales
 . Para las ingenierías que realizan proyectos de cableado estructurado se 
 presentará una novedosa y revolucionaria herramienta digital para el diseñ
 o y configuración de la instalación de voz y datos en entornos edificio ca
 mpus\, ahorrando mucho tiempo y obteniendo los resultados exportables a mú
 ltiples formatos.\n	PROGRAMA:\n	16:00 a 16:05 h. Bienvenida. Noelia Miranda\
 , Responsable de Desarrollo Técnico del COIT\n	16:05 a 17:05 h. Cómo optimi
 zar la gestión del estudio con AVANT MANAGER\, herramienta específica para
  estudios de ingeniería y arquitectura. Jordi Oliva\, CEO AVANT Efficiency
  SL\n	17:05 a 18:05 h. MyNET Campus: novedosa herramienta digital para el d
 iseño de instalaciones de redes de cableado estructurado en edificios Rubé
 n Cruells\, Responsable de Crecimiento y Fidelización de Clientes OPENETIC
 S.\n	18:05 a 18.15 h Ruegos y preguntas\n\n\n\n\n\nMás información e inscri
 pción aquí\n\n\nFormulario abajo\n\nFormulario arriba
DTSTART;TZID=Europe/Madrid:20220511T160000
DTEND;TZID=Europe/Madrid:20220511T180000
LAST-MODIFIED:20220429T091146Z
SUMMARY:Optimiza tu estudio de ingeniería/arquitectura mediante herramienta
 s de gestión y diseño digital
URL;TYPE=URI:https://www.coit.es/eventos/optimiza-tu-estudio-de-ingenieriaa
 rquitectura-mediante-herramientas-de-gestion-y-diseno
END:VEVENT
END:VCALENDAR
