BEGIN:VCALENDAR
VERSION:2.0
PRODID:-//Date iCal v3.5//NONSGML kigkonsult.se iCalcreator 2.20.2//
METHOD:PUBLISH
X-WR-CALNAME;VALUE=TEXT:ICAL
BEGIN:VTIMEZONE
TZID:Europe/Madrid
BEGIN:STANDARD
DTSTART:20211031T030000
TZOFFSETFROM:+0200
TZOFFSETTO:+0100
TZNAME:CET
END:STANDARD
BEGIN:DAYLIGHT
DTSTART:20220327T020000
TZOFFSETFROM:+0100
TZOFFSETTO:+0200
TZNAME:CEST
END:DAYLIGHT
END:VTIMEZONE
BEGIN:VEVENT
UID:calendar.34764.event_date.0@www.coit.es
DTSTAMP:20260419T145833Z
CREATED:20220126T083152Z
DESCRIPTION:Fecha\n\nMiércoles\, 2 Febrero\, 2022 - De 18:30 hasta 19:30\n
 \n\n\n\n\n\n\n\nEl objetivo de este Webinar es dar a conocer las diferente
 s oportunidades que tienen los colegiados y profesionales del sector de la
 s telecomunicaciones dentro de los entornos inteligentes (ciudades\, regio
 nes\, territorios\, destinos turísticos\, etc.).\n	¿Qué tendencias existen?
  ¿Cómo plantear el mejor enfoque a estas iniciativas inteligentes? ¿Qué ti
 po de proyectos podré abordar? son algunas de las preguntas a resolver.\n	T
 odo desde un punto de vista realista\, práctico. Con la visión del Grupo d
 e Trabajo de Smart Cities/Smart Regions del COIT y de un ponente vinculado
  más de diez años a la materia.Imprescindible inscribirse en el formulario
 P R O G R A M A\n\n18:30h\n			\n				\n\nBienvenida\, Dra. Cristina Márquez. Docto
 ra Cum Laude en 5G y Big Data (por la UC3M + MIT)\, Senior Data Scientist 
 en Sngular\, miembro del GT Jóvenes del COIT y coordinadora de ment-it. Im
 pulsora del Talento STEaM\, la Tecnología\, Ciencia y la Innovación.\n			\n		18
 :35h\n			\n				\n\nDr. Felix Herrera Priano\, Ingeniero de Telecomunicación. Coor
 dinador del Grupo de Trabajo de Ciudades/Regiones Inteligentes del COIT.\n
 			\n		19:10h\n			\n				\n\nTurno de preguntas.\n			\n		19:30h\n			Conclusiones y fin de la Jo
 rnada.\n		\n\nNOTA IMPORTANTE: Dos horas antes del inicio del evento se envi
 ará un correo con los datos de conexión a todos los inscritos en el formul
 ario\n	 \n\n\nFormulario abajo\n\nFormulario arriba
DTSTART;TZID=Europe/Madrid:20220202T183000
DTEND;TZID=Europe/Madrid:20220202T193000
LAST-MODIFIED:20220203T125635Z
SUMMARY:Telecomunicaciones y Ciudades: Nuevas oportunidades profesionales e
 n Smart Cities
URL;TYPE=URI:https://www.coit.es/eventos/telecomunicaciones-y-ciudades-nuev
 as-oportunidades-profesionales-en-smart-cities
END:VEVENT
END:VCALENDAR
