BEGIN:VCALENDAR
VERSION:2.0
PRODID:-//Date iCal v3.5//NONSGML kigkonsult.se iCalcreator 2.20.2//
METHOD:PUBLISH
X-WR-CALNAME;VALUE=TEXT:ICAL
BEGIN:VTIMEZONE
TZID:Europe/Madrid
BEGIN:STANDARD
DTSTART:20211031T030000
TZOFFSETFROM:+0200
TZOFFSETTO:+0100
TZNAME:CET
END:STANDARD
BEGIN:DAYLIGHT
DTSTART:20220327T020000
TZOFFSETFROM:+0100
TZOFFSETTO:+0200
TZNAME:CEST
END:DAYLIGHT
END:VTIMEZONE
BEGIN:VEVENT
UID:calendar.34653.event_date.0@www.coit.es
DTSTAMP:20260421T104836Z
CREATED:20211210T132002Z
DESCRIPTION:Fecha\n\nJueves\, 16 Diciembre\, 2021 - De 18:00 hasta 19:00\n
 \n\n\n\n\n\n\n\nEl Grupo de Trabajo Jóvenes del COIT\,  organiza el webina
 r  '¿El mejor Trabajo Del Mundo?' el 16 de diciembre a las 18:00 h. a trav
 és de la plataforma Zoom.\n\n\n\n'¿Cuál es el mejor trabajo del mundo para
  ti? ¿Lo tienes claro?\n\n\n\nYo no lo tenía nada claro y por eso tuve que
  dedicar mucho tiempo\, mucho más que otros para llegar a tener el mejor t
 rabajo del mundo.\n\n\n\n¿Te suena bien? Pues si quieres saber más\, el pr
 óximo día 16 te contaré 5 claves que fui descubriendo con el tiempo que te
  pueden ayudar a conseguirlo antes que yo.'\n\n\n\nPROGRAMA\n\n\n\n18:00h 
 Bienvenida a cargo de Adrián Amor\, coordinador del GT Jóvenes\n\n\n\n18:0
 5h Presentación del ponente\n\nÁlvaro Arroyal. Hotel Digital. Transformaci
 ón Digital del Hotel para la gestión\, operación\, mantenimiento y marketi
 ng de la Experiencia del nuevo Turista Digital. Ingeniero. Consultor. Form
 ador.\n\n\n18:10h ¿El mejor Trabajo del Mundo?\n\n\n\n18:45h Turno de preg
 untas y respuestas\n\n\n\n18:55h Cierre de la sesión y conclusiones\n\n\n
 \nNOTA IMPORTANTE: Dos horas antes del inicio del evento se enviará un cor
 reo con los datos de conexión a todos los inscritos.\n\n\nFormulario abajo
 \n\nFormulario arriba
DTSTART;TZID=Europe/Madrid:20211216T180000
DTEND;TZID=Europe/Madrid:20211216T190000
LAST-MODIFIED:20211216T172341Z
SUMMARY:Webinar: ¿El mejor Trabajo Del Mundo?
URL;TYPE=URI:https://www.coit.es/eventos/webinar-el-mejor-trabajo-del-mundo
END:VEVENT
END:VCALENDAR
