BEGIN:VCALENDAR
VERSION:2.0
PRODID:-//Date iCal v3.5//NONSGML kigkonsult.se iCalcreator 2.20.2//
METHOD:PUBLISH
X-WR-CALNAME;VALUE=TEXT:ICAL
BEGIN:VTIMEZONE
TZID:Europe/Madrid
BEGIN:STANDARD
DTSTART:20211031T030000
TZOFFSETFROM:+0200
TZOFFSETTO:+0100
TZNAME:CET
END:STANDARD
BEGIN:DAYLIGHT
DTSTART:20220327T020000
TZOFFSETFROM:+0100
TZOFFSETTO:+0200
TZNAME:CEST
END:DAYLIGHT
END:VTIMEZONE
BEGIN:VEVENT
UID:calendar.34645.event_date.0@www.coit.es
DTSTAMP:20260425T214302Z
CREATED:20211207T123706Z
DESCRIPTION:Fecha\n\nLunes\, 20 Diciembre\, 2021 - De 16:00 hasta 19:00\n\n
 \n\n\nEl Colegio Oficial de Ingenieros de Telecomunicaicón\, realizará est
 e webinar con la colaboración del fabricante español Ekselans by ITS (EK) 
 (www.ek.plus) el día 20 de Diciembre de 2021 de 16:00h a 19:00h.\n\n\n\nEl
  auge que el sector hotelero\, socio-sanitario\, Smart City\, Industria 4.
 0…etc\, con inversiones que superan los niveles pre-Covid y con proyectos 
 en estudio que superan con creces varios miles de millones de euros y que 
 saldrán al mercado el próximo año\, los ingenieros de la marca explicarán 
 cómo plantear\, estructurar y diseñar proyectos de conectividad GPON en lo
 s escenarios en los que esta tecnología se aplica.\n\n\n\nTemas a tratar\n
 \n¿Qué es la tecnología GPON?\n	¿Cómo es la estructura de una red GPON?\n	¿C
 ómo se instala y configura una red GPON?\n	¿En qué entornos se instalan red
 es GPON?\n	¿Qué servicios se pueden ofrecer a través de estas redes?​\n\n\n
 Ponentes\n\nVíctor Fernández\, Delegado EK Zona Norte\n	Víctor Abrate del á
 rea de I+D/Soporte Técnico de Ekselans\n\n\nNOTA: Para asistir es impresci
 ndible inscribirse en el formulario. El link de acceso a la sesión se prop
 orcionará el mismo día del webinar.\n\n\nFormulario abajo\n\nFormulario ar
 riba
DTSTART;TZID=Europe/Madrid:20211220T160000
DTEND;TZID=Europe/Madrid:20211220T190000
LAST-MODIFIED:20211220T155931Z
SUMMARY:Redes GPON. Una tecnología a tu alcance para acceder a nuevas oport
 unidades de negocio
URL;TYPE=URI:https://www.coit.es/eventos/redes-gpon-una-tecnologia-tu-alcan
 ce-para-acceder-nuevas-oportunidades-de-negocio
END:VEVENT
END:VCALENDAR
