BEGIN:VCALENDAR
VERSION:2.0
PRODID:-//Date iCal v3.5//NONSGML kigkonsult.se iCalcreator 2.20.2//
METHOD:PUBLISH
X-WR-CALNAME;VALUE=TEXT:ICAL
BEGIN:VTIMEZONE
TZID:Europe/Madrid
BEGIN:STANDARD
DTSTART:20211031T030000
TZOFFSETFROM:+0200
TZOFFSETTO:+0100
TZNAME:CET
END:STANDARD
BEGIN:DAYLIGHT
DTSTART:20210328T020000
TZOFFSETFROM:+0100
TZOFFSETTO:+0200
RDATE:20220327T020000
TZNAME:CEST
END:DAYLIGHT
END:VTIMEZONE
BEGIN:VEVENT
UID:calendar.34442.event_date.0@www.coit.es
DTSTAMP:20260419T145550Z
CREATED:20210928T090848Z
DESCRIPTION:Semana Mundial del Espacio\n\n\n\nFecha\n\nJueves\, 7 Octubre\,
  2021 - De 18:00 hasta 19:30\n\n\n\n\nEste evento tiene por objetivos pone
 r en valor el papel de los Ingenieros de Telecomunicación en la industria 
 espacial y dar visibilidad a mujeres IT con una gran trayectoria profesion
 al en este sector\, haciendo honor a la temática escogida en 2021 para la 
 celebración World Space Week: 'Women in space'.\n\n\n\nFecha y formato: ju
 eves 7 de octubre\, a las 18:00h de forma telemática. \n\n\n\nOrganiza: Gr
 upo de Espacio del COIT\n\n\n\n \n\n\n\nPROGRAMA\n\n\n\n18:00h. Apertura. 
  \n\nMarta Balenciaga Arrieta. Decana-presidente del COIT y presidenta de 
 la AEIT\n\n\nModera: \n\nSandra González Díaz. Ingeniera de Telecomunicaci
 ón\, miembro del GT Espacio del COIT. Lidera proyectos de transformación d
 igital mediante y promoviendo el uso de formas de trabajar Agile.\n\n\nInt
 ervienen:\n\nAna Jalón. Ingeniera de Telecomunicación por la Universidad P
 olitécnica de Madrid. Responsable del área de Software y Segmento Terreno 
 de Thales Alenia Space en España.\n	Arancha Domínguez Casas. Ingeniera de P
 ayload en el programa Galileo Segunda Generación (Agencia Espacial Europea
 ).\n	Rocío García. Ingeniera de Telecomunicación. Responsable de las activi
 dades de Thales Alenia Space en España en el programa europeo de navegació
 n Galileo Segunda Generación.\n	Laura García Gámez. Ingeniería de Telecomun
 icación. Investigadora postdoctoral Xlim-CNES para la realización de array
 s de antenas.\n	Mireia Colina. Ingeniera de Telecomunicación. Responsable d
 el desarrollo de negocios en la Dirección del Espacio en GTD.\n	María Mota.
  Ingeniera de Telecomunicación. Responsable en actividades de desarrollo d
 e negocio y gestión de proyectos GNSS en Telespazio Ibérica.\n\n\nTurno de
  preguntas\n\n\n\nCierre del acto \n\n\n\nNOTA: Para asistir es imprescind
 ible inscribirse en el formulario. El link de acceso a la sesión se propor
 cionará el mismo día\, dos horas antes del evento.\n\n\nFormulario abajo\n
 \nFormulario arriba
DTSTART;TZID=Europe/Madrid:20211007T180000
DTEND;TZID=Europe/Madrid:20211007T193000
LAST-MODIFIED:20211007T162858Z
SUMMARY:Mesa Redonda: La Ingeniería de Telecomunicación en el sector espaci
 al
URL;TYPE=URI:https://www.coit.es/eventos/mesa-redonda-la-ingenieria-de-tele
 comunicacion-en-el-sector-espacial
END:VEVENT
END:VCALENDAR
