BEGIN:VCALENDAR
VERSION:2.0
PRODID:-//Date iCal v3.5//NONSGML kigkonsult.se iCalcreator 2.20.2//
METHOD:PUBLISH
X-WR-CALNAME;VALUE=TEXT:ICAL
BEGIN:VTIMEZONE
TZID:Europe/Madrid
BEGIN:STANDARD
DTSTART:20201025T030000
TZOFFSETFROM:+0200
TZOFFSETTO:+0100
TZNAME:CET
END:STANDARD
BEGIN:DAYLIGHT
DTSTART:20210328T020000
TZOFFSETFROM:+0100
TZOFFSETTO:+0200
TZNAME:CEST
END:DAYLIGHT
END:VTIMEZONE
BEGIN:VEVENT
UID:calendar.33642.event_date.0@www.coit.es
DTSTAMP:20260421T104821Z
CREATED:20201110T093954Z
DESCRIPTION:Fecha\n\nJueves\, 12 Noviembre\, 2020 - De 10:00 hasta 22:00\n
 \n\n\n\n\n\nEl 12 de noviembre se celebrará la 22ª edición de la #NTV2020
 \n	Stands virtuales\, networking en tiempo real y asistencia virtual a la e
 ntrega de premios en una edición adaptada a los protocolos sanitarios\n\n
 \nEl Colegio Oficial de Ingenieros de Telecomunicación de la Comunidad Val
 enciana\, la Escuela Técnica Superior de Ingeniería de Telecomunicación de
  la Universitat Politècnica de València (UPV) y la Generalitat Valenciana 
 lo tienen todo a punto para que el próximo jueves 12 de noviembre se celeb
 re la 22ª edición de los Premios y Noche de las Telecomunicaciones Valenci
 anas (#NTV2020). Se trata de un evento anual que pretende apoyar el tejido
  empresarial de la Comunitat Valenciana\, poniendo de manifiesto la import
 ancia de las tecnologías digitales y de gestión del conocimiento en la evo
 lución de nuestra sociedad.\n\n\n\n\n	En esta ocasión\, será una edición es
 pecial debido a la situación de pandemia\, lo cual ha obligado a repensar 
 el evento y a adaptarlo a los protocolos y recomendaciones sanitarias. Así
 \, su celebración será a través de una experiencia 100% virtual\, accesibl
 e desde cualquier lugar del mundo y cualquier dispositivo. Mediante una pl
 ataforma virtual desarrollada por Grupo Alfatec\, el usuario podrá visitar
  los stands de los patrocinadores de la #NTV2020\, que se situarán de mane
 ra simulada en la Ciudad Politécnica de la Innovación. En ellos\, el visit
 ante recibirá información multimedia sobre cada empresa y realizará networ
 king en tiempo real. Además\, el Auditori Alfons Roig de la UPV acogerá\, 
 también de manera virtual\, una exposición con vídeos y entrevistas a las 
 empresas participantes y el acto de entrega de premios de esta 22ª edición
 \, presentado en clave de humor por el cómico valenciano Raúl Antón.\n\n\n
 \n“Seguridad en la sociedad hiperconectada”\n	Esta edición de la #NTV2020 e
 stará dedicada a los sistemas y herramientas punteros a la hora de implant
 ar la digitalización efectiva del mundo empresarial\, con especial atenció
 n a la seguridad. En un contexto socioeconómico como el que estamos vivien
 do\, la digitalización de las empresas es clave para adaptarse a nuevos mo
 delos de negocio\, para tomar decisiones más rápidas y efectivas y para ap
 rovechar las oportunidades de crecimiento. Además\, los modelos de teletra
 bajo que se han instaurado en los últimos meses a consecuencia de la pande
 mia\, permiten reconocer la necesidad de estar preparados para trabajar en
  un contexto virtual. Y\, todo ello\, sin dejar nunca de lado el tema de l
 a seguridad digital y la protección de datos.\n\n\n\n\n	Una vez más\, el ev
 ento contará con el patrocinio de importantes empresas tecnológicas: Assec
 o Spain\, Autis Ingenieros\, Cellnex-Adesal Telecom\, Colt\, Fivecomm\, He
 wlett Packard Enterprise-Intel\, Minsait\, Nunsys-Microsoft\, Orange\, Sim
 plecloud\, Sopra Steria\, Telefónica\, Verne Group y Vodafone\, y la colab
 oración de Elecnor\, Encamina-GTI\, Huawei\, NTT\, Peaks Bussiness School\
 , Prodevelop\, S2 Grupo\, The Whiteam y Tyris Software. Diversas entidades
  e instituciones colaboran también con la #NTV2020: la Asociación Valencia
 na de Ingenieros de Telecomunicación\, el Colegio de Ingenieros Industrial
 es de la Comunitat Valenciana\, el Colegio Oficial y la Asociación Valenci
 ana de Graduados e Ingenieros Técnicos de Telecomunicación\, la asociación
  Som Digitals\, la Diputació de València\, el Instituto Valenciano de Comp
 etitividad Empresarial (IVACE)\, la Cámara de Comercio de Valencia\, Feria
  Valencia\, el Instituto Tecnológico de Informática (ITI)\, Redit Innovati
 on Network\, la Universitat d’Alacant\, la Universidad Miguel Hernández y 
 la Universitat de València.\n\n\n\n\n	La agenda del evento será la siguient
 e:\n\n\n\n12 NOVIEMBRE\n	10:00h a 13:30h ENTREVISTAS Y EXPOSICIONES\n\nEntr
 evistas y ponencias\n	Visitas a los stands de los patrocinadores.\n	Networki
 ng\n\n\n20:00H APERTURA DEL ACTO Y BIENVENIDA\n\n Intervención de D. Alber
 to González\, Ilmo. Director de la ETSIT UPV.\n\n\n20:30H MESA REDONDA “Ci
 berseguridad en una sociedad hiperconectada”\n\nModeradora\n		Dña. Pilar Rar
 o Garnes\, Vicepresidenta de AVIT\, CIO Grupo La Plana.\n		\n	Ponentes\n		D. Ra
 fael Vidal Iniesta\, Director de Seguridad y Gobierno TIC en Nunsys\n			D. Jo
 sé Miguel Rosell Tejada\, Socio Director de S2 Grupo\n		\n\n\n21:00H. ENTREG
 A DE PREMIOS\n\nIntervención de D. Sergio Riolobos\, Ilmo. Decano del COIT
 CV.\n	Premio Empresa Joven / Emprendedor\n	Premio Mejor Trabajo Final de Mas
 ter\n	Premio Administración Pública u ONG impulsora de las TIC\n	Premio Empr
 esa Relevante\n	Premio Persona Destacada del Sector\n	Premio Teleco Honoris 
 Causa 2020\n	Conexión de Dª Marta Balenciaga\, Ilma. Decana-presidente del 
 COIT\n\n\n21:45H. CLAUSURA\n\nIntervención de D. Francisco Mora\, Excmo. S
 r. Rector Magnífico de la Universitat Politècnica de València.\n	Intervenci
 ón de D. Pedro Pernías\, Ilmo. Director General para el Avance de la Socie
 dad Digital\, Generalitat Valenciana.\n\n\nPara más información e inscripc
 iones\, puede consultarse la página web de la #NTV2020: https://www.nochet
 elecovlc.org\n\n\nFormulario abajo\n\nFormulario arriba\n\n\nDescarga np_2
 2_edicion_noche_telecomunicaciones_valencianas.pdf (57.71 KB)
DTSTART;TZID=Europe/Madrid:20201112T100000
DTEND;TZID=Europe/Madrid:20201112T220000
LAST-MODIFIED:20201110T161935Z
SUMMARY:Nueva edición virtual de la Noche de las Telecomunicaciones Valenci
 anas
URL;TYPE=URI:https://www.coit.es/eventos/nueva-edicion-virtual-de-la-noche-
 de-las-telecomunicaciones-valencianas
END:VEVENT
END:VCALENDAR
