BEGIN:VCALENDAR
VERSION:2.0
PRODID:-//Date iCal v3.5//NONSGML kigkonsult.se iCalcreator 2.20.2//
METHOD:PUBLISH
X-WR-CALNAME;VALUE=TEXT:ICAL
BEGIN:VTIMEZONE
TZID:Europe/Madrid
BEGIN:STANDARD
DTSTART:20201025T030000
TZOFFSETFROM:+0200
TZOFFSETTO:+0100
TZNAME:CET
END:STANDARD
BEGIN:DAYLIGHT
DTSTART:20200329T020000
TZOFFSETFROM:+0100
TZOFFSETTO:+0200
RDATE:20210328T020000
TZNAME:CEST
END:DAYLIGHT
END:VTIMEZONE
BEGIN:VEVENT
UID:calendar.33507.event_date.0@www.coit.es
DTSTAMP:20260421T122252Z
CREATED:20200925T123140Z
DESCRIPTION:Fecha\n\nLunes\, 28 Septiembre\, 2020 - De 18:00 hasta 20:00\n
 \n\n\n\n\n\n\n\nEl Foro Histórico de las Telecomunicaciones tiene el honor
  de invitarte a la quinta jornada del Ciclo de Innovaciones Propias titula
 da 'Las Telecomunicaciones en el Sector Audiovisual 1985-1996: Una década 
 transformadora'\, que se celebrará el lunes 28 de septiembre a las 18:00 h
 oras exclusivamente en formato on-line.\n\n\n\nDurante la segunda mitad de
  los años 80 y primera mitad de los 90 se llevó a cabo una profunda transf
 ormación y reordenación de las telecomunicaciones en España\, abriendo el 
 sector a su progresiva liberalización y estableciendo las bases para el de
 sarrollo del sector audiovisual y su apertura a la competencia.\n\n\n\nEl 
 impacto de las telecomunicaciones en la transformación y desarrollo del se
 ctor audiovisual en España será analizado en la presente jornada por sus p
 rotagonistas\, exponiendo los hitos más importantes de la década a nivel n
 acional y la importante aportación de los ingenieros españoles al desarrol
 lo de las normas europeas de TV de alta definición y TV digital.\n\n\n\nPR
 OGRAMA\n\n18:00\n			BienvenidaDª Marta Balenciaga Arrieta\, Presidenta de la 
 AEIT y Decana-Presidente del COIT\n		18:05\n			Presentación de la Jornada D. An
 tonio López García \n				Presidente de SATEL SA\n					Director de TVE (1982) \n					Pres
 idente de AMPER (1983-1994) \n					Consejero de Hispasat (1989-1996)\n					President
 e del Consejo Social de la Universidad Complutense de Madrid (2001-2003)\n
 				\n		18:10\n			La refundación de las TelecomunicacionesD. Javier Nadal Ariño\n				Pr
 esidente de la Asociación  Española de Fundaciones\n					Director General de Te
 lecomunicaciones\, Delegado del Gobierno en Telefónica y Presidente de RET
 EVISION (1985-1995)\n				\n		18:30\n			RETEVISION\, empresa clave en el desarrollo 
 del Audiovisual y las Telecomunicaciones EspañolasD. José Aznar Taberner\n
 				Socio Fundador de GONDAR Consultores y Asesores\n					Asesor Ejecutivo del Mini
 stro de Transportes\, Turismo y Telecomunicaciones (1985-1989)\n					Consejero-
 Director General de RETEVISION (1989-1996)\n				\n		18:50\n			El satélite despega e
 n EspañaD. Pedro L. Molinero\n				Director General de Hispasat Canarias\n					Respo
 nsable del  Departamento de Estudios y Prospectivas  (DGTel) (1985-1989)\n
 					Director del Centro de Control de Satélites de Hispasat (1989-2000)\n				\n		19:
 10\n			La evolución tecnológica de la televisión. 1986 – 1996: una década de 
 desarrollo emocionanteD. José Luis Tejerina\n				Director de Tecnología de Ret
 evision (1989-1998)\n					Presidente de la Comisión de Estudios 9 de la UIT_T “
 Trensmisión de Televisión y Redes de Banda Ancha” (1993-2000)\n					Life Fellow
  del SMPTE por su contribución al desarrollo de la TV digital y de la TVAD
 \n				\n		19:30\n			Coloquio/Debate\n		20:00\n			Conclusiones\n		\n\nNOTA IMPORTANTE: Impr
 escindible inscribirse en el siguiente formulario. En las horas previas al
  inicio del evento se enviará un correo electrónico a todos los inscritos 
 con los datos de conexión.\n\n\nFormulario abajo\n\nFormulario arriba
DTSTART;TZID=Europe/Madrid:20200928T180000
DTEND;TZID=Europe/Madrid:20200928T200000
LAST-MODIFIED:20200925T124207Z
SUMMARY:FHT - Las Telecomunicaciones en el Sector Audiovisual. 1985-1996: U
 na década transformadora
URL;TYPE=URI:https://www.coit.es/eventos/fht-las-telecomunicaciones-en-el-s
 ector-audiovisual-1985-1996-una-decada-transformadora
END:VEVENT
END:VCALENDAR
