BEGIN:VCALENDAR
VERSION:2.0
PRODID:-//Date iCal v3.5//NONSGML kigkonsult.se iCalcreator 2.20.2//
METHOD:PUBLISH
X-WR-CALNAME;VALUE=TEXT:ICAL
BEGIN:VTIMEZONE
TZID:Europe/Madrid
BEGIN:STANDARD
DTSTART:20201025T030000
TZOFFSETFROM:+0200
TZOFFSETTO:+0100
TZNAME:CET
END:STANDARD
BEGIN:DAYLIGHT
DTSTART:20200329T020000
TZOFFSETFROM:+0100
TZOFFSETTO:+0200
TZNAME:CEST
END:DAYLIGHT
END:VTIMEZONE
BEGIN:VEVENT
UID:calendar.33385.event_date.0@www.coit.es
DTSTAMP:20260420T132149Z
CREATED:20200724T062144Z
DESCRIPTION:Fecha\n\nMiércoles\, 29 Julio\, 2020 - De 09:30 hasta 10:45\n\n
 \n\n\n\n\n\n\n\n\n\n\nLa Secretaría de Estado de Telecomunicaciones e Infr
 aestructuras Digitales organiza un webinar sobre: \n	Tramitación de ayudas 
 2020 en el Programa de Extensión de la Banda Ancha\n\n\n\nLa asistencia al
  Webinar es libre y gratuita\n\n\n\nPuedes registrarte aquí\n\n\n\n\n\nPRO
 GRAMA\n\n\n\n9:30-9:45 - Presentación\, Pedro Alonso Manjón\, Subdirector 
 General de Operadores de Telecomunicaciones e Infraestructuras Digitales d
 el Ministerio de Asuntos Económicos y Transformación Digital.\n\n\n\n9:45-
 10:15 - Ponencia\, José María Moragón\, Coordinador de Área Gestión PEBA\,
  Subdirección General de Operadores de Telecomunicaciones e Infraestructur
 as Digitales del Ministerio de Asuntos Económicos y Transformación Digital
 .\n\n\n\n10:15-10:45 - Turno de preguntas\n\n\nFormulario abajo\n\nFormula
 rio arriba
DTSTART;TZID=Europe/Madrid:20200729T093000
DTEND;TZID=Europe/Madrid:20200729T104500
LAST-MODIFIED:20200724T062504Z
SUMMARY:Tramitación de ayudas 2020 en el Programa de Extensión de la Banda 
 Ancha
URL;TYPE=URI:https://www.coit.es/eventos/tramitacion-de-ayudas-2020-en-el-p
 rograma-de-extension-de-la-banda-ancha
END:VEVENT
END:VCALENDAR
