BEGIN:VCALENDAR
VERSION:2.0
PRODID:-//Date iCal v3.5//NONSGML kigkonsult.se iCalcreator 2.20.2//
METHOD:PUBLISH
X-WR-CALNAME;VALUE=TEXT:ICAL
BEGIN:VTIMEZONE
TZID:Europe/Madrid
BEGIN:STANDARD
DTSTART:20201025T030000
TZOFFSETFROM:+0200
TZOFFSETTO:+0100
TZNAME:CET
END:STANDARD
BEGIN:DAYLIGHT
DTSTART:20200329T020000
TZOFFSETFROM:+0100
TZOFFSETTO:+0200
TZNAME:CEST
END:DAYLIGHT
END:VTIMEZONE
BEGIN:VEVENT
UID:calendar.33378.event_date.0@www.coit.es
DTSTAMP:20260420T095341Z
CREATED:20200720T102209Z
DESCRIPTION:Fecha\n\nMartes\, 28 Julio\, 2020 - De 11:00 hasta 12:00\n\n\n
 \n\nEl COIT te invita al Webinar “Bases y normativa para el despliegue de 
 puntos de acceso inalámbrico de dimensiones reducidas​'\, que realizaremos
  el próximo 28 de julio a las 11:00 horas.\n\n\n\nLa Directiva 2018/1972\,
  de 11 de diciembre de 2018\, por la que se establece el Código Europeo de
  las Comunicaciones Electrónicas introduce medidas relativas a la agilizac
 ión de trámites para la instalación de puntos de acceso inalámbricos de di
 mensiones reducidas en el entorno urbano. Estas infraestructuras\, ya exis
 tentes en anteriores tecnologías de telefonía móvil son de especial import
 ancia en ciertos escenarios dentro del despliegue del 5G. Este Webinar tra
 tará de dar una explicación muy breve de su papel\, su abordaje normativo 
 y los principales problemas que pueden encontrarse en su despliegue.\n\n\n
 \nDuración estimada: 60 minutos.\n\n\n\nImprescindible inscribirse en el s
 iguiente formulario\n\n\n\n\n\nPROGRAMA\n\n\n\n11:00 h. Introducción y bie
 nvenida.\n\nJosé Carlos Báez\, Vocal de la Junta de Gobierno y Coordinador
  del GT Ejercicio Profesional del COIT.\n\n\n11:05 h. Inicio Webinar: “El 
 despliegue de puntos de acceso inalámbricos de dimensiones reducidas en la
  telefonía móvil. Bases y normativa.”\, impartido por:\n\nMiguel Valle del
  Olmo\, Coordinador de Área de Administraciones Públicas\, SG de Operadore
 s de Telecomunicación e Infraestructuras Digitales de la Secretaría de Est
 ado de Telecomunicaciones e Infraestructuras Digitales.\n\n\n 11:45 h. Tur
 no abierto para comentarios y consultas.\n\n\n\n\n\nNOTA IMPORTANTE: Activ
 idad exclusiva para colegiados. Dos horas antes del inicio del evento se e
 nviará un correo con los datos de conexión a todos los inscritos en el for
 mulario.\n\n\nFormulario abajo\n\nFormulario arriba
DTSTART;TZID=Europe/Madrid:20200728T110000
DTEND;TZID=Europe/Madrid:20200728T120000
LAST-MODIFIED:20200728T063623Z
SUMMARY:Bases y normativa para el despliegue de puntos de acceso inalámbric
 o de dimensiones reducidas
URL;TYPE=URI:https://www.coit.es/eventos/bases-y-normativa-para-el-desplieg
 ue-de-puntos-de-acceso-inalambrico-de-dimensiones
END:VEVENT
END:VCALENDAR
