BEGIN:VCALENDAR
VERSION:2.0
PRODID:-//Date iCal v3.5//NONSGML kigkonsult.se iCalcreator 2.20.2//
METHOD:PUBLISH
X-WR-CALNAME;VALUE=TEXT:ICAL
BEGIN:VTIMEZONE
TZID:Europe/Madrid
BEGIN:STANDARD
DTSTART:20201025T030000
TZOFFSETFROM:+0200
TZOFFSETTO:+0100
TZNAME:CET
END:STANDARD
BEGIN:DAYLIGHT
DTSTART:20200329T020000
TZOFFSETFROM:+0100
TZOFFSETTO:+0200
TZNAME:CEST
END:DAYLIGHT
END:VTIMEZONE
BEGIN:VEVENT
UID:calendar.33308.event_date.0@www.coit.es
DTSTAMP:20260420T101823Z
CREATED:20200703T120911Z
DESCRIPTION:Fecha\n\nJueves\, 9 Julio\, 2020 - De 18:00 hasta 19:00\n\n\n\n
 \n\n\n\n\nEl Colegio Oficial de Ingenieros de Telecomunicación (COIT) tien
 e el placer de invitarle a la presentación online del informe ‘Superando l
 os riesgos de una inteligencia artificial sin ética ni regulación’ el próx
 imo 9 de julio a las 18.00h. \n\n\n\nEditado por nuestro Colegio y coordin
 ado por José Antonio Portilla Figueras\, sus autores son Eduardo Rodríguez
  Lorenzo\, Juan Santaella Vallejo\, Noelia Miranda Santos y Sonia Castillo
  Triguero.\n\n\n\nLa publicación abarca todos los campos de actuación en t
 orno a la Inteligencia Artificial (IA)\, desde sus técnicas y tecnologías 
 hasta las estrategias emprendidas a nivel nacional\, pasando por una refle
 xión tan adecuada como necesaria sobre las implicaciones sociales y éticas
  de la IA. Además\, un capítulo del informe trata diferentes ejemplos de a
 plicación de la IA\, tomando como referencia distintos ámbitos\, como las 
 tecnologías de la salud\, el transporte ferroviario\, la conservación de l
 a naturaleza\, la seguridad y\, por último\, las telecomunicaciones.\n\n\n
 \nLa información aportada en el informe está aderezada con opiniones de im
 portantes profesionales del sector\, como Miguel Camacho Collados\, miembr
 o del Gabinete de la Secretaría de Estado para el Avance Digital\; Rogelio
  Polanco\, director de Calidad de Alhambra Eidos\; Nuria Oliver\, jefa de 
 Ciencia de datos en Data-Pop Alliance\, y Eduvigis Ortiz Moronta\, miembro
  de Strategic Alliances Leader Sas Wimlds Madrid.\n\n\n\nEl documento tamb
 ién abarca las consecuencias sociales de la implantación de la IA. Así pue
 s\, repasa la fractura social que posiblemente conducirá al desempleo y un
 a brecha de cualificación e incide en la importancia de la educación como 
 una herramienta esencial. También menciona el riesgo que provoca el desequ
 ilibrio en el sistema de valores\, lo que conduce a una asimetría de la in
 formación que deriva en una asimetría del poder.\n\n\n\nPor todo ello\, no
 s gustaría que acudiera a la presentación virtual del informe\, cuyo progr
 ama es el siguiente:\n\n\n\nFecha:  9 de Julio a las 18:00h a través de la
  aplicación Zoom\n\n\n\nDuración estimada: 60 minutos\n\n\n\n\n\nPROGRAMA
 \n\n\n\n18:00 h. Presentación del Informe\n\nAntonio Portilla\, Vocal de l
 a Junta de Gobierno y Coordinador del Grupo de Trabajo de Políticas Públic
 as y Regulación del COIT\n\n\n18:10:h. Implicaciones sociales\, ética e IA
 \n\nSonia Castillo\, miembro del Grupo de Trabajo Políticas Públicas y Reg
 ulación del COIT\n\n\n18:25 h. Estrategias nacionales de IA\n\nEduardo Rod
 ríguez\, miembro del Grupo de Trabajo Políticas Públicas y Regulación del 
 COIT\n\n\n18:40 h. Expertos invitados\n\nEduvigis Ortiz\, Strategic Allian
 ce Leader en SAS\n	José Luis Florez\, Presidente de Fundación ETHIA\n\n\n19
 :00 h. Fin Presentación\n\n\n\nNOTA IMPORTANTE:  Dos horas antes del inici
 o del evento se enviará un correo con los datos de conexión a todos los in
 scritos en el formulario.\n\n\n\n\nFormulario abajo\n\nFormulario arriba
DTSTART;TZID=Europe/Madrid:20200709T180000
DTEND;TZID=Europe/Madrid:20200709T190000
LAST-MODIFIED:20200709T155236Z
SUMMARY:Presentación del Informe 'Superando los riesgos de una inteligencia
  artificial sin ética ni regulación'
URL;TYPE=URI:https://www.coit.es/eventos/presentacion-del-informe-superando
 -los-riesgos-de-una-inteligencia-artificial-sin-etica-ni
END:VEVENT
END:VCALENDAR
