BEGIN:VCALENDAR
VERSION:2.0
PRODID:-//Date iCal v3.5//NONSGML kigkonsult.se iCalcreator 2.20.2//
METHOD:PUBLISH
X-WR-CALNAME;VALUE=TEXT:ICAL
BEGIN:VTIMEZONE
TZID:Europe/Madrid
BEGIN:STANDARD
DTSTART:20201025T030000
TZOFFSETFROM:+0200
TZOFFSETTO:+0100
TZNAME:CET
END:STANDARD
BEGIN:DAYLIGHT
DTSTART:20200329T020000
TZOFFSETFROM:+0100
TZOFFSETTO:+0200
TZNAME:CEST
END:DAYLIGHT
END:VTIMEZONE
BEGIN:VEVENT
UID:calendar.33304.event_date.0@www.coit.es
DTSTAMP:20260420T102315Z
CREATED:20200701T123700Z
DESCRIPTION:Fecha\n\nLunes\, 6 Julio\, 2020 - De 17:30 hasta 18:30\n\n\n\n
 \nEl próximo lunes\, 6 de julio\, a las 17:30h\, el Colegio Oficial de Ing
 enieros de Telecomunicación Región de Murcia en colaboración con Hub Empre
 sa de Banco Sabadell\, te invitamos a la sesión en la que hablaremos del S
 andbox regulatorio como punta de lanza de la creación de un nuevo modelo d
 e negocio e infinidad de oportunidades empresariales.\n\n\n\nEn esta sesió
 n\, moderada por Fernando Canos\, Director Comercial Territorial Este en B
 anco Sabadell\, contaremos con las siguientes intervenciones:\n\nDenis Nak
 agaki\, Head of Digital Strategy and Partnerships de Innocells by Banco Sa
 badell: “Sandbox regulatorio como palanca para acelerar la innovación y ac
 ompañar mejor a nuestros clientes”.\nJuan Luis Pedreño\, Decano del Colegi
 o de Ingenieros de Telecomunicación Región de Murcia\, Catedrático de la U
 niversidad Politécnica de Cartagena y Diputado Nacional en el Congreso de 
 los Diputados: “Sandbox regulatorio en España\, atracción de proyectos par
 a el desarrollo de la Transformación Digital”\nJulian Inza\, Chief Audit O
 fficer de TCAB (Trust Conformity Assessment Body): “Sandbox regulatorio pa
 ra mejorar la competitividad de la innovación Fintech\, Insurtech\, Regtec
 h\, Suptech desde España”.\n\n\nPodéis inscribiros a través del siguiente 
 enlace: Inscripción\n\n\nFormulario abajo\n\nFormulario arriba
DTSTART;TZID=Europe/Madrid:20200706T173000
DTEND;TZID=Europe/Madrid:20200706T183000
LAST-MODIFIED:20200701T162425Z
SUMMARY:Sandbox regulatorio: Una oportunidad de negocio
URL;TYPE=URI:https://www.coit.es/eventos/sandbox-regulatorio-una-oportunida
 d-de-negocio
END:VEVENT
END:VCALENDAR
