BEGIN:VCALENDAR
VERSION:2.0
PRODID:-//Date iCal v3.5//NONSGML kigkonsult.se iCalcreator 2.20.2//
METHOD:PUBLISH
X-WR-CALNAME;VALUE=TEXT:ICAL
BEGIN:VTIMEZONE
TZID:Europe/Madrid
BEGIN:STANDARD
DTSTART:20201025T030000
TZOFFSETFROM:+0200
TZOFFSETTO:+0100
TZNAME:CET
END:STANDARD
BEGIN:DAYLIGHT
DTSTART:20200329T020000
TZOFFSETFROM:+0100
TZOFFSETTO:+0200
TZNAME:CEST
END:DAYLIGHT
END:VTIMEZONE
BEGIN:VEVENT
UID:calendar.33303.event_date.0@www.coit.es
DTSTAMP:20260420T100945Z
CREATED:20200701T122506Z
DESCRIPTION:Fecha\n\nLunes\, 6 Julio\, 2020 - De 10:00 hasta 11:30\n\n\n\n
 \nEl próximo lunes\, 6 de julio\, a las 10:00h se celebrará el webinar Mod
 elo de Gestión Lean y su Digitalización\, organizado por COITeRM y el Inst
 ituto de Fomento de la Región de Murcia e incluido en el Ciclo Webinars Em
 presa 4.0.\n\n\n\nEl webinar dará a conocer modelos de gestión y organizac
 ión del trabajo centrados en mejora continua y optimización de producción\
 , con la finalidad de eliminar desperdicios y actividades que no sumen val
 or al proceso productivo de la empresa.\n\n\n\nPodéis obtener más informac
 ión en el documento adjunto e inscribiros a través del siguiente enlace: I
 nscripción\n\n\n\n\nFormulario abajo\n\nFormulario arriba\n\n\nDescarga we
 binar_modelo_de_gestion_lean_y_su_digitalizacion.pdf (293.29 KB)
DTSTART;TZID=Europe/Madrid:20200706T100000
DTEND;TZID=Europe/Madrid:20200706T113000
LAST-MODIFIED:20200701T130613Z
SUMMARY:Modelo de Gestión Lean y su Digitalización
URL;TYPE=URI:https://www.coit.es/eventos/modelo-de-gestion-lean-y-su-digita
 lizacion
END:VEVENT
END:VCALENDAR
