BEGIN:VCALENDAR
VERSION:2.0
PRODID:-//Date iCal v3.5//NONSGML kigkonsult.se iCalcreator 2.20.2//
METHOD:PUBLISH
X-WR-CALNAME;VALUE=TEXT:ICAL
BEGIN:VTIMEZONE
TZID:Europe/Madrid
BEGIN:STANDARD
DTSTART:20201025T030000
TZOFFSETFROM:+0200
TZOFFSETTO:+0100
TZNAME:CET
END:STANDARD
BEGIN:DAYLIGHT
DTSTART:20200329T020000
TZOFFSETFROM:+0100
TZOFFSETTO:+0200
TZNAME:CEST
END:DAYLIGHT
END:VTIMEZONE
BEGIN:VEVENT
UID:calendar.33240.event_date.0@www.coit.es
DTSTAMP:20260422T104601Z
CREATED:20200601T073417Z
DESCRIPTION:Fecha\n\nMartes\, 16 Junio\, 2020 - De 11:00 hasta 12:00\n\n\n
 \n\nEl COIT organiza el Webinar “La Importancia de la Infraestructura de r
 ed en el entorno de edificios inteligentes y nuevas sedes corporativas”\, 
 en el que se hablará de las diferentes tecnologías que integran las instal
 aciones de comunicaciones de los edificios modernos\, haciendo un repaso d
 e los distintos estándares Wi-Fi\, la necesidad de cobertura móvil 4G/5G e
 n interior\, la conectividad IoT tanto de forma inalámbrica como a través 
 de los nuevos sistemas de cableado basado en un solo par (SPE)\, la crecie
 nte demanda de tecnología PoE (Power Over Ethernet) y sus implicaciones pa
 ra adoptarla de forma masiva\, y las nuevas tecnologías de transmisión a t
 ravés de fibra óptica multimodo usando multiplexación por longitud de onda
  (SWDM).\n\n\n\nFecha:  16 de junio\n\n\n\nHora:  11:00h a través de la ap
 licación Zoom\n\n\n\nDuración estimada: 60 minutos\n\n\n\n\n\n\n\n\n\nPROG
 RAMA\n\n\n\n11:00 h. Introducción y bienvenida\n\nJosé Carlos Báez\, Vocal
  de la Junta de Gobierno y Coordinador del GT Ejercicio Profesional del CO
 IT\n\n\n11:05:h. Inicio Webinar “ La importancia de la infraestructura de 
 red en el entorno de edificios inteligentes y nuevas sedes corporativas”\,
  impartido por:\n\nAlberto Martínez\, Ingeniero de Telecomunicación\, Prin
 cipal Engineer en CommScope\n\n\n11:40 h. Turno abierto para comentarios y
  consultas\n\n\n\n\n\nNOTA IMPORTANTE: Actividad exclusiva para colegiados
 . Dos horas antes del inicio del evento se enviará un correo con los datos
  de conexión a todos los inscritos.\n\n\nFormulario abajo\n\nFormulario ar
 riba
DTSTART;TZID=Europe/Madrid:20200616T110000
DTEND;TZID=Europe/Madrid:20200616T120000
LAST-MODIFIED:20200617T063617Z
SUMMARY:Webinar “La Importancia de la Infraestructura de red en el entorno 
 de edificios inteligentes y nuevas sedes corporativas”
URL;TYPE=URI:https://www.coit.es/eventos/webinar-la-importancia-de-la-infra
 estructura-de-red-en-el-entorno-de-edificios-inteligentes
END:VEVENT
END:VCALENDAR
