BEGIN:VCALENDAR
VERSION:2.0
PRODID:-//Date iCal v3.5//NONSGML kigkonsult.se iCalcreator 2.20.2//
METHOD:PUBLISH
X-WR-CALNAME;VALUE=TEXT:ICAL
BEGIN:VTIMEZONE
TZID:Europe/Madrid
BEGIN:STANDARD
DTSTART:20201025T030000
TZOFFSETFROM:+0200
TZOFFSETTO:+0100
TZNAME:CET
END:STANDARD
BEGIN:DAYLIGHT
DTSTART:20200329T020000
TZOFFSETFROM:+0100
TZOFFSETTO:+0200
TZNAME:CEST
END:DAYLIGHT
END:VTIMEZONE
BEGIN:VEVENT
UID:calendar.33232.event_date.0@www.coit.es
DTSTAMP:20260420T114529Z
CREATED:20200527T112452Z
DESCRIPTION:AFORO COMPLETO\n\n\n\nFecha\n\nMartes\, 2 Junio\, 2020 - De 11:
 00 hasta 12:00\n\n\n\n\n\n\n\n\nEl COIT organiza el encuentro-webinar “Int
 roducción a las instalaciones de autoconsumo”\, en el que se hablará de la
 s oportunidades profesionales de la realización de proyectos de energía so
 lar fotovoltáica de autoconsumo. El Real Decreto 244/2019 abre la posibili
 dad a la realización masiva de instalaciones para la generación de energía
  solar fotovoltaica y en determinados casos conlleva un proyecto y una dir
 ección de obra realizada por ingeniero.\n\n\n\nFecha:  2 de junio a las 11
 :00h a través de la aplicación Zoom\n\n\n\nDuración estimada: 60 minutos\n
 \n\n\nPROGRAMA\n\n\n\n11:00 h. Introducción y bienvenida\n\nJosé Carlos Bá
 ez\, Vocal de la Junta de Gobierno y Coordinador del GT Ejercicio Profesio
 nal del COIT\n\n\n11:05 h. Inicio Webinar-reunión “Instalaciones de autoco
 nsumo\, Real Decreto 244/2019”.\n\nMarc Aznar Soler\, Responsable Servicio
  de Trabajos Profesionales del COIT\n\n\n11:40 h. Turno abierto para comen
 tarios y consultas\n\n\n\n\n\nNOTA IMPORTANTE: Actividad exclusiva para co
 legiados. Esta actividad está limitada a 100 plazas\, en caso de haber más
  demanda se realizará otra sesión posteriormente. Dos horas antes del inic
 io del evento se enviará un correo con los datos de conexión a todos los i
 nscritos.\n\n\nFormulario abajo\n\nFormulario arriba
DTSTART;TZID=Europe/Madrid:20200602T110000
DTEND;TZID=Europe/Madrid:20200602T120000
LAST-MODIFIED:20200611T104804Z
SUMMARY:Introducción Instalaciones de autoconsumo
URL;TYPE=URI:https://www.coit.es/eventos/introduccion-instalaciones-de-auto
 consumo
END:VEVENT
END:VCALENDAR
