BEGIN:VCALENDAR
VERSION:2.0
PRODID:-//Date iCal v3.5//NONSGML kigkonsult.se iCalcreator 2.20.2//
METHOD:PUBLISH
X-WR-CALNAME;VALUE=TEXT:ICAL
BEGIN:VTIMEZONE
TZID:Europe/Madrid
BEGIN:STANDARD
DTSTART:20191027T030000
TZOFFSETFROM:+0200
TZOFFSETTO:+0100
RDATE:20201025T030000
TZNAME:CET
END:STANDARD
BEGIN:DAYLIGHT
DTSTART:20200329T020000
TZOFFSETFROM:+0100
TZOFFSETTO:+0200
TZNAME:CEST
END:DAYLIGHT
END:VTIMEZONE
BEGIN:VEVENT
UID:calendar.33225.event_date.0@www.coit.es
DTSTAMP:20260420T095514Z
CREATED:20200522T095749Z
DESCRIPTION:Fecha\n\nMiércoles\, 27 Mayo\, 2020 - De 18:00 hasta 20:00\n\n
 \n\n\n\n\n\n\nEl Colegio y la Asociación de Ingeniería de Telecomunicación
  de Euskadi ha preparado un debate el próximo miércoles\, 27 de mayo a las
  18 horas\, sobre  'La importancia de la seguridad/ciberseguridad enfocado
  a profesionales TIC'​\n	Queremos poner en valor tanto la figura del profes
 ional de la ingeniería de telecomunicación así como definir y reforzar la 
 importancia de la seguridad y la ciberseguridad en nuestro día a día. \n	Pa
 ra este debate\, contaremos con la presencia de Asier Martínez\, del Basqu
 e Cibersecurity Center\, Etxahun Sánchez Bazterretxea y José Ramón Concha 
 de la empresa P3rs\, así como de Alvaro Ubierna\, Decano del Colegio de In
 genieros de Telecomunicación de Euskadi y COO de la empresa RKL.\n\n\n\n B
 ienvenida y Presentación\n\nLa figura del/a profesional de ingeniería de t
 elecomunicación en la ciberseguridad \n	Ciberseguridad: P3rseus\n	Basque Cib
 ersecurity Center \n	Seguridad: RKL\n	Debate Final\n\n\n\n\nNota importante:
 \n\n\n\nInscripciones en el siguiente formulario\n	En el siguiente enlace p
 odrá conectarse al debate en directo\n\n\n\n\n	 \n\n\nFormulario abajo\n\nF
 ormulario arriba
DTSTART;TZID=Europe/Madrid:20200527T180000
DTEND;TZID=Europe/Madrid:20200527T200000
LAST-MODIFIED:20200611T105031Z
SUMMARY:Debate: 'La importancia de la seguridad/ciberseguridad enfocado a p
 rofesionales TIC'
URL;TYPE=URI:https://www.coit.es/eventos/debate-la-importancia-de-la-seguri
 dadciberseguridad-enfocado-profesionales-tic
END:VEVENT
END:VCALENDAR
