BEGIN:VCALENDAR
VERSION:2.0
PRODID:-//Date iCal v3.5//NONSGML kigkonsult.se iCalcreator 2.20.2//
METHOD:PUBLISH
X-WR-CALNAME;VALUE=TEXT:ICAL
BEGIN:VTIMEZONE
TZID:Europe/Madrid
BEGIN:STANDARD
DTSTART:20191027T030000
TZOFFSETFROM:+0200
TZOFFSETTO:+0100
RDATE:20201025T030000
TZNAME:CET
END:STANDARD
BEGIN:DAYLIGHT
DTSTART:20200329T020000
TZOFFSETFROM:+0100
TZOFFSETTO:+0200
TZNAME:CEST
END:DAYLIGHT
END:VTIMEZONE
BEGIN:VEVENT
UID:calendar.33218.event_date.0@www.coit.es
DTSTAMP:20260420T082033Z
CREATED:20200520T170624Z
DESCRIPTION:Fecha\n\nViernes\, 22 Mayo\, 2020 - De 12:00 hasta 13:00\n\n\n
 \n\n\n\n\n\nLa Asociación de Enxeñeiros de Telecomunicación de Galicia (AE
 TG) te invita al encuentro virtual en conmemoración del Día Mundial de las
  Telecomunicaciones y de la Sociedad de la Información 2020 en el que part
 icipan PuntoGal y la AETG y que tendrá lugar el próximo 22 de mayo a las 1
 2.00 horas.\n\n\n\nPROGRAMA\n\n\n\n11.50 h. Conexión telemática de asisten
 tes\n\n\n\n12.00 h. Presenta y modera: Manuel Blanco Casal\, periodista\n
 \n\n\n12.05 h. Debate: 'Desafío 2030: Conectar Galicia al mundo regido por
  los datos'\n\n\n\nParticipan: Julio Sánchez Agrelo\, presidente AETG/deca
 no COETG y Manuel González González\, presidente PuntoGal\n\n\n\n13.00 h. 
 Clausura\n\n\n\n\n\nInscrición gratuíta a través del siguiente formulario
 \n\n\n\nNota importante: La conexión se realizará a través de Zoom. Previo
  al inicio de la jornada\, se remitirá el enlace de conexión a los inscrit
 os.\n\n\nFormulario abajo\n\nFormulario arriba
DTSTART;TZID=Europe/Madrid:20200522T120000
DTEND;TZID=Europe/Madrid:20200522T130000
LAST-MODIFIED:20200611T144147Z
SUMMARY:Desafío 2030: Conectar Galicia al mundo regido por los datos
URL;TYPE=URI:https://www.coit.es/eventos/desafio-2030-conectar-galicia-al-m
 undo-regido-por-los-datos
END:VEVENT
END:VCALENDAR
