BEGIN:VCALENDAR
VERSION:2.0
PRODID:-//Date iCal v3.5//NONSGML kigkonsult.se iCalcreator 2.20.2//
METHOD:PUBLISH
X-WR-CALNAME;VALUE=TEXT:ICAL
BEGIN:VTIMEZONE
TZID:Europe/Madrid
BEGIN:STANDARD
DTSTART:20191027T030000
TZOFFSETFROM:+0200
TZOFFSETTO:+0100
RDATE:20201025T030000
TZNAME:CET
END:STANDARD
BEGIN:DAYLIGHT
DTSTART:20200329T020000
TZOFFSETFROM:+0100
TZOFFSETTO:+0200
TZNAME:CEST
END:DAYLIGHT
END:VTIMEZONE
BEGIN:VEVENT
UID:calendar.33217.event_date.0@www.coit.es
DTSTAMP:20260420T101807Z
CREATED:20200520T111620Z
DESCRIPTION:Fecha\n\nJueves\, 21 Mayo\, 2020 - De 18:30 hasta 19:45\n\n\n\n
 \nCon motivo del Día Mundial de las Telecomunicaciones y la Sociedad de la
  Información el jueves 21 a las 18:30 la Consejería de Desarrollo Sostenib
 le ha preparado una jornada divulgativa con la colaboración del Colegio Of
 icial de Ingenieros de Telecomunicación en Castilla-La Mancha. Será una jo
 rnada de aproximadamente una hora y media en la que contaremos la historia
  de la inventora de la tecnología en la que se basa Bluetooth o WIFI\, el 
 futuro de la Computación Cuántica\, la tecnología 5G y algunos secretos de
  la ciberseguridad.\n\n\n\nLa jornada contará con la siguiente\n\n\n\nAgen
 da\n\n18:20 h. Conexión.\n18:30 h. Conduce tele-presencialmente el acto: D
 . Alipio García Rodríguez\, Director General de Cohesión Territorial (Gobi
 erno de Castilla-La Mancha)\n18:33 h. Intervención de Juan Carlos López\, 
 Decano Delegado del Colegio Oficial de Ingenieros de Telecomunicación en C
 astilla-La Mancha\n18:36 h. Ponencia de D. Samuel Álvarez\, Director de Gr
 upo In-Nova. TEDxTalk Speaker.\n\n		Como sobrevivir al COVID y no ser hackea
 do en el intento\n		\n18:48 h. Ponencia de D. César Sánchez Meléndez\, Profe
 sor Titular de Universidad\, Escuela Politécnica de Cuenca\, UCLM.\n\n		Muss
 olini\, Blancanieves\, el Avecrem\, CatWoman y las cosas de tu WiFi\n		\n19:
 00 h. Entrevista a D. José Luis Escudero Palomo\, Consejero de Desarrollo 
 Sostenible de la Junta de Comunidades de Castilla-La Mancha\n\n\nA cargo d
 e D. José Antonio Portilla Figueras\, Catedrático de la Universidad de Alc
 alá\, Director de la Escuela Politécnica de la Universidad de Alcalá y Dir
 ector del Observatorio UAH-ISDEFE en TIC y Avance Digital\n\n19:20 h. Pone
 ncia de D. José Fernando García Ródenas\, Ingeniero de Telecomunicación y 
 Vocal de la Junta de Gobierno del COIT.\n\n		Quantum Computing\, preparémono
 s para una nueva era\n		\n19:32 h. Ponencia de D. Alberto Nájera\, Director 
 Académico del Vicerrectorado de Investigación y Política Científica y  Coo
 rdinador de la Unidad de Cultura Científica e Innovación (UCLM) y Miembro 
 del Comité Científico Asesor de Radiofrecuencias y Salud (CCARS\, COIT)\n
 \n		Quemando antenas contra el coronavirus\n		\n19:44 h. Fin de la Jornada\n\n
 \nEsta Jornada Virtual se podrá seguir a través del canal YouTube de la Co
 nsejería de Desarrollo Sostenible de la Junta de Comunidades de Castilla-L
 a Mancha en el link: \n\n\n\nhttps://youtu.be/N_W3zBCGzZE\n\n\n\n\nFormula
 rio abajo\n\nFormulario arriba
DTSTART;TZID=Europe/Madrid:20200521T183000
DTEND;TZID=Europe/Madrid:20200521T194500
LAST-MODIFIED:20200619T082056Z
SUMMARY:Jornada virtual Día Mundial de las Telecomunicaciones y  Sociedad d
 e la Información en CLM
URL;TYPE=URI:https://www.coit.es/eventos/jornada-virtual-dia-mundial-de-las
 -telecomunicaciones-y-sociedad-de-la-informacion-en-clm
END:VEVENT
END:VCALENDAR
