BEGIN:VCALENDAR
VERSION:2.0
PRODID:-//Date iCal v3.5//NONSGML kigkonsult.se iCalcreator 2.20.2//
METHOD:PUBLISH
X-WR-CALNAME;VALUE=TEXT:ICAL
BEGIN:VTIMEZONE
TZID:Europe/Madrid
BEGIN:STANDARD
DTSTART:20191027T030000
TZOFFSETFROM:+0200
TZOFFSETTO:+0100
RDATE:20201025T030000
TZNAME:CET
END:STANDARD
BEGIN:DAYLIGHT
DTSTART:20200329T020000
TZOFFSETFROM:+0100
TZOFFSETTO:+0200
TZNAME:CEST
END:DAYLIGHT
END:VTIMEZONE
BEGIN:VEVENT
UID:calendar.33202.event_date.0@www.coit.es
DTSTAMP:20260420T100713Z
CREATED:20200514T081136Z
DESCRIPTION:Fecha\n\nMiércoles\, 27 Mayo\, 2020 - De 11:00 hasta 12:30\n\n
 \n\n\n\n\n\n\nEl próximo 27 de mayo\, de 11:00 a 12:30\, tendrá lugar el W
 ebinar ‘Inclusión de la accesibilidad en las ingenierías TIC’ donde difere
 ntes expertos e Ingenieros de Telecomunicación analizarán el grado de pene
 tración de los conocimientos sobre accesibilidad en el sector tecnológico\
 , así como su presencia real en la industria española.\n\n\n\nEl Colegio y
  la ONCE\, con la colaboración de ATELAN\, organizan esta nueva actividad 
 profesional que se llevará a cabo de forma virtual\, a través de la plataf
 orma Zoom\, con el objetivo de continuar aportar contenidos de valor princ
 ipalmente a colegiados y colegiadas pero abriendo el abanico al resto de p
 rofesionales de otras ingenierías relacionadas con las TIC.\n\n\n\nEl prog
 rama del Webinar constará de una inauguración institucional\, a cargo de C
 ristóbal Martínez\, Delegado Territorial de ONCE en Andalucía\, y David Cr
 uz-Guzmán\, decano del Coitaoc\, para continuar con una mesa redonda que e
 stará moderada por Jesús Hernández\, Director de Accesibilidad Universal e
  Innovación en Fundación ONCE\, y en la que participarán Miguel Ángel Vale
 ro\, Subdirector General de la Oficina de Accesibilidad del Ayuntamiento d
 e Madrid\, Jesica Rivero\, Responsable de I+D en ILUNION Tecnología y Acce
 sibilidad\, y Verónica Ramírez\, Directora de I+D de Smart City Cluster.\n
 \n\n\nLos participantes\, una vez registrados e inscritos en este formular
 io\, recibirán el enlace para asistir a la conferencia.\n\n\nFormulario ab
 ajo\n\nFormulario arriba
DTSTART;TZID=Europe/Madrid:20200527T110000
DTEND;TZID=Europe/Madrid:20200527T123000
LAST-MODIFIED:20200612T062332Z
SUMMARY:La inclusión de la accesibilidad en las Ingenierías TIC a debate en
  un Webinar organizado por ONCE y COITAOC
URL;TYPE=URI:https://www.coit.es/eventos/la-inclusion-de-la-accesibilidad-e
 n-las-ingenierias-tic-debate-en-un-webinar-organizado-por
END:VEVENT
END:VCALENDAR
