BEGIN:VCALENDAR
VERSION:2.0
PRODID:-//Date iCal v3.5//NONSGML kigkonsult.se iCalcreator 2.20.2//
METHOD:PUBLISH
X-WR-CALNAME;VALUE=TEXT:ICAL
BEGIN:VTIMEZONE
TZID:Europe/Madrid
BEGIN:STANDARD
DTSTART:20191027T030000
TZOFFSETFROM:+0200
TZOFFSETTO:+0100
RDATE:20201025T030000
TZNAME:CET
END:STANDARD
BEGIN:DAYLIGHT
DTSTART:20200329T020000
TZOFFSETFROM:+0100
TZOFFSETTO:+0200
TZNAME:CEST
END:DAYLIGHT
END:VTIMEZONE
BEGIN:VEVENT
UID:calendar.33192.event_date.0@www.coit.es
DTSTAMP:20260422T104405Z
CREATED:20200508T130622Z
DESCRIPTION:Fecha\n\nMartes\, 19 Mayo\, 2020 - De 10:00 hasta 12:00\n\n\n\n
 \nEl Colegio Oficial de Ingenieros de Telecomunicación de la Comunidad Val
 enciana (COITCV) y la Asociación Valenciana de Ingenieros de Telecomunicac
 ión (AVIT) organizan el webinar “Internet por satélite\, una perspectiva p
 ráctica y actualizada”\, que será impartido por bigblu\, empresa del PARQU
 E AVIT\, dirigida por Sergio Goterris\, colegiado y asociado del COITCV/AV
 IT.\n\n\n\nLa jornada tendrá lugar el 19 de mayo a  las 10:00h. través de 
 la plataforma TEAMS. El objetivo del webinar es dar a conocer la tecnologí
 a de acceso internet por satélite actualmente disponible y la habilitación
  para la distribución e instalación de soluciones bigblu internet.\n\n\n\n
 Puedes consultar toda la información de la jornada e inscribirte aquí. No 
 pierdas la oportunidad de conocer las soluciones actuales de la mano de bi
 gblu.\n\n\nFormulario abajo\n\nFormulario arriba
DTSTART;TZID=Europe/Madrid:20200519T100000
DTEND;TZID=Europe/Madrid:20200519T120000
LAST-MODIFIED:20200522T074701Z
SUMMARY:Webinar “Internet por satélite\, una perspectiva práctica y actuali
 zada”
URL;TYPE=URI:https://www.coit.es/eventos/webinar-internet-por-satelite-una-
 perspectiva-practica-y-actualizada
END:VEVENT
END:VCALENDAR
