BEGIN:VCALENDAR
VERSION:2.0
PRODID:-//Date iCal v3.5//NONSGML kigkonsult.se iCalcreator 2.20.2//
METHOD:PUBLISH
X-WR-CALNAME;VALUE=TEXT:ICAL
BEGIN:VTIMEZONE
TZID:Europe/Madrid
BEGIN:STANDARD
DTSTART:20191027T030000
TZOFFSETFROM:+0200
TZOFFSETTO:+0100
RDATE:20201025T030000
TZNAME:CET
END:STANDARD
BEGIN:DAYLIGHT
DTSTART:20200329T020000
TZOFFSETFROM:+0100
TZOFFSETTO:+0200
TZNAME:CEST
END:DAYLIGHT
END:VTIMEZONE
BEGIN:VEVENT
UID:calendar.33157.event_date.0@www.coit.es
DTSTAMP:20260421T231004Z
CREATED:20200420T173447Z
DESCRIPTION:Fecha\n\nMiércoles\, 22 Abril\, 2020 - De 18:00 hasta 19:15\n\n
 \n\n\n\n\n\n\n\n\n\n\n\n\n\n\n\n\n \n\n\n\n\n\n\n\n\n\n\n\n\n\nPROGRAMA\n
 \n17:55\n			\n				\n\nCONEXIÓN TELEMÁTICA DE INVITADOS (ACK).\n			\n		18:00\n			\n				\n\nBIE
 NVENIDA tele-presencial a cargo de Marta Balenciaga\, Decana-Presidente CO
 IT.\n			\n		18:05\n			\n				\n\nINGENIEROS DE TELECOMUNICACIÓN: 100 AÑOS CONECTANDO EM
 OCIONES.\n\n				\n\nConduce tele-presencialmente el Acto: Luis García Millán\,
  Ingeniero de Telecomunicación.\n\n				\n\nIntervienen:\n\n				\n\nJulio Linares L
 ópez\, Consejero de Telefónica Alemania y Telefónica Brasil\, Patrono de l
 a Fundación Telefónica\, Miembro del Consejo de la GSMA y Presidente de la
  Comisión de Sociedad Digital de la CEOE.\n\n				\n\nEmma Fernández Alonso\, C
 onsejera independiente de Metrovacesa y Axway.\n\n				\n\nMiguel Carlos Castil
 lejo Calvo\, Concejal de Transparencia\, Innovación Tecnológica en el  Ayu
 ntamiento de Alcalá de Henares. Business Senior Manager en BBVA.\n\n				\n\nAl
 exia Rodríguez Díaz\, miembro de la Junta del COIT\, coordinadora del GT M
 ujer IT del COIT y Product Owner de ARCELOR Mittal.\n			\n		19:15\n			\n				\n\nCIERRE
  Y FOTOGRAFÍA  TELE-PRESENCIAL DE RECUERDO DE TODOS LOS ASISTENTES\n			\n		\n\n
  \n\n\nFormulario abajo\n\nFormulario arriba
DTSTART;TZID=Europe/Madrid:20200422T180000
DTEND;TZID=Europe/Madrid:20200422T191500
LAST-MODIFIED:20200611T150046Z
SUMMARY:Primer centenario del título “Ingeniero de Telecomunicación”
URL;TYPE=URI:https://www.coit.es/eventos/primer-centenario-del-titulo-ingen
 iero-de-telecomunicacion
END:VEVENT
END:VCALENDAR
