BEGIN:VCALENDAR
VERSION:2.0
PRODID:-//Date iCal v3.5//NONSGML kigkonsult.se iCalcreator 2.20.2//
METHOD:PUBLISH
X-WR-CALNAME;VALUE=TEXT:ICAL
BEGIN:VTIMEZONE
TZID:Europe/Madrid
BEGIN:STANDARD
DTSTART:20191027T030000
TZOFFSETFROM:+0200
TZOFFSETTO:+0100
TZNAME:CET
END:STANDARD
BEGIN:DAYLIGHT
DTSTART:20190331T020000
TZOFFSETFROM:+0100
TZOFFSETTO:+0200
RDATE:20200329T020000
TZNAME:CEST
END:DAYLIGHT
END:VTIMEZONE
BEGIN:VEVENT
UID:calendar.32757.event_date.0@www.coit.es
DTSTAMP:20260422T085910Z
CREATED:20190904T104154Z
DESCRIPTION:AFORO COMPLETO!\n\n\n\nFecha\n\nViernes\, 13 Septiembre\, 2019 
 - De 12:00 hasta 14:00\n\nUbicación\n\nCalle Don Pedro\, 10\, 28005 Madrid
 \n\n\n\n\nEl próximo 13 de septiembre a las 12:00 horas iniciamos una rond
 a de visitas culturales a la sede de la Real Academia de Ingeniería de Esp
 aña\, antiguo Palacio de los Marqueses de Villafranca.\n\n\n\n\n\nEl númer
 o de visitantes es reducido y se hará en grupos de un máximo de 25 persona
 s.\n\n\n\n\n\nLa visita es gratuita y el colegiado/a puede acudir con un a
 compañante.\n\n\n\n\n\nA esta primera visita seguirán muchas más en difere
 ntes días y franjas horarias.\n\n\n\n\n\nEsta acción cultural es fruto de 
 la estrecha colaboración entre la Real Academia de Ingeniería y el Colegio
  Oficial de Ingenieros de Telecomunicación.\n\n\n\n\n\nSi estás interesado
 \, formaliza la inscripción cumplimentando el siguiente formulario. Como e
 l número de visitantes está limitado se confirmarán las inscripciones por 
 orden de llegada y hasta el límite del aforo.  \n\n\n\n\n\nEn el siguiente
  enlace podréis encontrar información preliminar sobre la sede de la RAI (
 C/ Don Pedro\, 10)\n\n\n\n\n\n\nFormulario abajo\n\nFormulario arriba
DTSTART;TZID=Europe/Madrid:20190913T120000
DTEND;TZID=Europe/Madrid:20190913T140000
LAST-MODIFIED:20190909T091016Z
LOCATION:Calle Don Pedro\, 10\, 28005 Madrid
SUMMARY:El COIT organiza visitas guiadas a la Real Academia de Ingeniería
URL;TYPE=URI:https://www.coit.es/eventos/el-coit-organiza-visitas-guiadas-l
 a-real-academia-de-ingenieria
END:VEVENT
END:VCALENDAR
