BEGIN:VCALENDAR
VERSION:2.0
PRODID:-//Date iCal v3.5//NONSGML kigkonsult.se iCalcreator 2.20.2//
METHOD:PUBLISH
X-WR-CALNAME;VALUE=TEXT:ICAL
BEGIN:VTIMEZONE
TZID:Europe/Madrid
BEGIN:STANDARD
DTSTART:20171029T030000
TZOFFSETFROM:+0200
TZOFFSETTO:+0100
RDATE:20181028T030000
TZNAME:CET
END:STANDARD
BEGIN:DAYLIGHT
DTSTART:20180325T020000
TZOFFSETFROM:+0100
TZOFFSETTO:+0200
TZNAME:CEST
END:DAYLIGHT
END:VTIMEZONE
BEGIN:VEVENT
UID:calendar.31771.event_date.0@www.coit.es
DTSTAMP:20260420T101513Z
CREATED:20180212T164820Z
DESCRIPTION:Fecha\n\nDe Miércoles\, 18 Abril\, 2018 - 10:30 hasta Viernes\,
  20 Abril\, 2018 - 17:30\n\nUbicación\n\nESCOLA POLITÈCNICA SUPERIOR” AT M
 ONTILIVI CAMPUS\, UNIVERSITY OF GIRONA \n\nCoordinadas\n\n\n\n\n\n\n\nOver
 drive Conference is a computer security conference in Girona. This event i
 s set up by a group of young highly motivated students and teachers at the
  technical school of Girona that do research in computer security. Overdri
 ve con is focused on connecting professionals from different walks of the 
 computer security field to share their experiences and enhance the fratern
 al spirit of the hacker community worldwide.\n\n\n\nRead more\n	 \n\n\nForm
 ulario abajo\n\nFormulario arriba
DTSTART;TZID=Europe/Madrid:20180418T103000
DTEND;TZID=Europe/Madrid:20180420T173000
LAST-MODIFIED:20180212T165230Z
LOCATION:ESCOLA POLITÈCNICA SUPERIOR” AT MONTILIVI CAMPUS\, UNIVERSITY OF G
 IRONA
SUMMARY:OVERDRIVE HACKING CONFERENCE
URL;TYPE=URI:https://www.coit.es/eventos/overdrive-hacking-conference
END:VEVENT
END:VCALENDAR
